BEGIN:VCALENDAR
VERSION:2.0
PRODID:-//Taller Puertorriqueño - ECPv6.15.17.1//NONSGML v1.0//EN
CALSCALE:GREGORIAN
METHOD:PUBLISH
X-WR-CALNAME:Taller Puertorriqueño
X-ORIGINAL-URL:https://tallerpr.org
X-WR-CALDESC:Events for Taller Puertorriqueño
REFRESH-INTERVAL;VALUE=DURATION:PT1H
X-Robots-Tag:noindex
X-PUBLISHED-TTL:PT1H
BEGIN:VTIMEZONE
TZID:America/New_York
BEGIN:DAYLIGHT
TZOFFSETFROM:-0500
TZOFFSETTO:-0400
TZNAME:EDT
DTSTART:20220313T070000
END:DAYLIGHT
BEGIN:STANDARD
TZOFFSETFROM:-0400
TZOFFSETTO:-0500
TZNAME:EST
DTSTART:20221106T060000
END:STANDARD
BEGIN:DAYLIGHT
TZOFFSETFROM:-0500
TZOFFSETTO:-0400
TZNAME:EDT
DTSTART:20230312T070000
END:DAYLIGHT
BEGIN:STANDARD
TZOFFSETFROM:-0400
TZOFFSETTO:-0500
TZNAME:EST
DTSTART:20231105T060000
END:STANDARD
BEGIN:DAYLIGHT
TZOFFSETFROM:-0500
TZOFFSETTO:-0400
TZNAME:EDT
DTSTART:20240310T070000
END:DAYLIGHT
BEGIN:STANDARD
TZOFFSETFROM:-0400
TZOFFSETTO:-0500
TZNAME:EST
DTSTART:20241103T060000
END:STANDARD
END:VTIMEZONE
BEGIN:VEVENT
DTSTART;TZID=America/New_York:20230520T150000
DTEND;TZID=America/New_York:20230520T170000
DTSTAMP:20260419T114752
CREATED:20230505T204750Z
LAST-MODIFIED:20230505T210036Z
UID:10000119-1684594800-1684602000@tallerpr.org
SUMMARY:Meet the Author: Ivette GuzmÃ¡n Zavala
DESCRIPTION:Ãnete a nosotros para una conversaciÃ³n con la autora Ivette GuzmÃ¡n Zavala sobre su libro Maternidades puertorriqueÃ±as: Esclavitud\, colonialismo y diÃ¡spora en el arte y la literatura. \n\n\n\nEsta presentaciÃ³n serÃ¡ en espaÃ±ol. This presentation will be in Spanish. \n\n\n\nRegister for Event
URL:https://tallerpr.org/events/meet-the-author-ivette-guzman-zavala/
LOCATION:Taller PuertorriqueÃ±o\, 2600 N 5th\, Philadelphia\, PA\, 19133\, United States
ATTACH;FMTTYPE=image/jpeg:https://tallerpr.org/wp-content/uploads/2023/05/MTA_IvetteGuzman_Graphics_EmailWebsiteBanner.jpg
GEO:39.990701;-75.14091
X-APPLE-STRUCTURED-LOCATION;VALUE=URI;X-ADDRESS=Taller PuertorriqueÃ±o 2600 N 5th Philadelphia PA 19133 United States;X-APPLE-RADIUS=500;X-TITLE=2600 N 5th:geo:-75.14091,39.990701
END:VEVENT
END:VCALENDAR