BEGIN:VCALENDAR
VERSION:2.0
PRODID:-//Taller Puertorriqueño - ECPv6.15.17.1//NONSGML v1.0//EN
CALSCALE:GREGORIAN
METHOD:PUBLISH
X-WR-CALNAME:Taller Puertorriqueño
X-ORIGINAL-URL:https://tallerpr.org
X-WR-CALDESC:Events for Taller Puertorriqueño
REFRESH-INTERVAL;VALUE=DURATION:PT1H
X-Robots-Tag:noindex
X-PUBLISHED-TTL:PT1H
BEGIN:VTIMEZONE
TZID:America/New_York
BEGIN:DAYLIGHT
TZOFFSETFROM:-0500
TZOFFSETTO:-0400
TZNAME:EDT
DTSTART:20250309T070000
END:DAYLIGHT
BEGIN:STANDARD
TZOFFSETFROM:-0400
TZOFFSETTO:-0500
TZNAME:EST
DTSTART:20251102T060000
END:STANDARD
BEGIN:DAYLIGHT
TZOFFSETFROM:-0500
TZOFFSETTO:-0400
TZNAME:EDT
DTSTART:20260308T070000
END:DAYLIGHT
BEGIN:STANDARD
TZOFFSETFROM:-0400
TZOFFSETTO:-0500
TZNAME:EST
DTSTART:20261101T060000
END:STANDARD
BEGIN:DAYLIGHT
TZOFFSETFROM:-0500
TZOFFSETTO:-0400
TZNAME:EDT
DTSTART:20270314T070000
END:DAYLIGHT
BEGIN:STANDARD
TZOFFSETFROM:-0400
TZOFFSETTO:-0500
TZNAME:EST
DTSTART:20271107T060000
END:STANDARD
END:VTIMEZONE
BEGIN:VEVENT
DTSTART;TZID=America/New_York:20260227T173000
DTEND;TZID=America/New_York:20260227T200000
DTSTAMP:20260422T204236
CREATED:20260219T183225Z
LAST-MODIFIED:20260219T183425Z
UID:10000271-1772213400-1772222400@tallerpr.org
SUMMARY:Arturo Schomburg Symposium Opening Reception: Capoeira Demonstration & Workshop with Mestre Cobra Mansa
DESCRIPTION:Friday\, February 27 | 5:30PM – 8PM\n\n\n\nAt the African American Museum in Philadelphia | 701 Arch St.\n\n\n\n\n\n\nDonation\n\n\n\n\nOpen to all | Pay what you wish\n\n\n\n\n\n\n\n\n\nJoin us on Friday\, February 27 from 5:30pm – 8pm for the opening night of the 30th Annual Arturo Schomburg Symposium at the African American Museum on Philadelphia. One of our presenters\, Mestre Cobra Mansa will lead a Capoeira Demonstration & Workshop. This event is open to all! \n\n\n\nThe symposium will take place the next day on Saturday February 28 from 9am – 5pm at Taller Puertorriqueño. Learn more about the Symposium’s programming here.
URL:https://tallerpr.org/events/schomburgopening/
LOCATION:Taller Puertorriqueño\, North 5th Street 2600\, Philadelphia\, Pennsylvania\, 19133\, United States
CATEGORIES:Featured,Fundraiser,Julia de Burgos Bookstore
ATTACH;FMTTYPE=image/jpeg:https://tallerpr.org/wp-content/uploads/2026/01/2-6-scaled.jpg
GEO:39.9906891;-75.1407037
X-APPLE-STRUCTURED-LOCATION;VALUE=URI;X-ADDRESS=Taller Puertorriqueño North 5th Street 2600 Philadelphia Pennsylvania 19133 United States;X-APPLE-RADIUS=500;X-TITLE=North 5th Street 2600:geo:-75.1407037,39.9906891
END:VEVENT
END:VCALENDAR