BEGIN:VCALENDAR
VERSION:2.0
PRODID:-//Taller Puertorriqueño - ECPv6.15.17.1//NONSGML v1.0//EN
CALSCALE:GREGORIAN
METHOD:PUBLISH
X-ORIGINAL-URL:https://tallerpr.org
X-WR-CALDESC:Events for Taller Puertorriqueño
REFRESH-INTERVAL;VALUE=DURATION:PT1H
X-Robots-Tag:noindex
X-PUBLISHED-TTL:PT1H
BEGIN:VTIMEZONE
TZID:America/New_York
BEGIN:DAYLIGHT
TZOFFSETFROM:-0500
TZOFFSETTO:-0400
TZNAME:EDT
DTSTART:20250309T070000
END:DAYLIGHT
BEGIN:STANDARD
TZOFFSETFROM:-0400
TZOFFSETTO:-0500
TZNAME:EST
DTSTART:20251102T060000
END:STANDARD
BEGIN:DAYLIGHT
TZOFFSETFROM:-0500
TZOFFSETTO:-0400
TZNAME:EDT
DTSTART:20260308T070000
END:DAYLIGHT
BEGIN:STANDARD
TZOFFSETFROM:-0400
TZOFFSETTO:-0500
TZNAME:EST
DTSTART:20261101T060000
END:STANDARD
BEGIN:DAYLIGHT
TZOFFSETFROM:-0500
TZOFFSETTO:-0400
TZNAME:EDT
DTSTART:20270314T070000
END:DAYLIGHT
BEGIN:STANDARD
TZOFFSETFROM:-0400
TZOFFSETTO:-0500
TZNAME:EST
DTSTART:20271107T060000
END:STANDARD
END:VTIMEZONE
BEGIN:VEVENT
DTSTART;TZID=America/New_York:20260208T180000
DTEND;TZID=America/New_York:20260208T220000
DTSTAMP:20260422T160929
CREATED:20260128T164952Z
LAST-MODIFIED:20260128T164958Z
UID:10000267-1770573600-1770588000@tallerpr.org
SUMMARY:AAMP Super Bowl LX Watch Party!
DESCRIPTION:Sunday\, February 8 at 6pm\n\n\n\nTaller Puertorriqueño | 2600 N. 5th St\, Philadelphia\, PA 19133\n\n\n\n\n\n\nGet Tickets\n\n\n\n\n$40 General Admission | $30 AAMP & Taller Members\n\n\n\n\n\n\n\n\n\nJoin us on Sunday\, February 8th\, for an unforgettable Super Bowl LIX Watch Party as we head to Taller Puertorriqueño for a night of football\, culture\, and community! This year\, we’re turning up the energy to honor the sound\, style\, and worldwide impact of Bad Bunny\, this year’s Super Bowl halftime performer. \n\n\n\n$40 General Admission$30 for AAMP & Taller Puertorriqueño Members! \n\n\n\nCome cheer on your favorite team in a high-energy atmosphere surrounded by fellow fans\, great vibes\, and shared excitement. \n\n\n\nWhat to expect: \n\n\n\n\nLive screening of the big game on a large screen\n\n\n\nDelicious food and drinks\, with an adult bar available for guests 21+\n\n\n\nFun games and family-friendly activities throughout the evening\n\n\n\nAn opportunity to view Taller Puertorriqueño’s current exhibition and connect with their space\n\n\n\nA chance to connect with the community and celebrate culture through sport and music\n\n\n\n\nBring your friends\, rep your team colors\, and get ready for a night filled with excitement\, culture\, and unforgettable moments — Philly style. And it’s still GO BIRDS!
URL:https://tallerpr.org/events/superbowl/
LOCATION:Taller Puertorriqueño\, North 5th Street 2600\, Philadelphia\, Pennsylvania\, 19133\, United States
CATEGORIES:Collaboration,Featured
ATTACH;FMTTYPE=image/jpeg:https://tallerpr.org/wp-content/uploads/2026/01/SuperBowl_Watch-Party_Web-scaled.jpg
GEO:39.9906891;-75.1407037
X-APPLE-STRUCTURED-LOCATION;VALUE=URI;X-ADDRESS=Taller Puertorriqueño North 5th Street 2600 Philadelphia Pennsylvania 19133 United States;X-APPLE-RADIUS=500;X-TITLE=North 5th Street 2600:geo:-75.1407037,39.9906891
END:VEVENT
BEGIN:VEVENT
DTSTART;TZID=America/New_York:20260213T130000
DTEND;TZID=America/New_York:20260213T173000
DTSTAMP:20260422T160929
CREATED:20260107T171758Z
LAST-MODIFIED:20260122T202518Z
UID:10000261-1770987600-1771003800@tallerpr.org
SUMMARY:Domino Tournament
DESCRIPTION:Friday\, February 13\, 1:00pm – 5:30pm\n\n\n\nTaller Puertorriqueño | 2600 N. 5th St\, Philadelphia\, PA 19133\n\n\n\n\n\n\nMake a Donation\n\n\n\n\nRegistration Suggested | Pay what you wish\n\n\n\n\n\n\n\n\n\nDomino Tournament at Taller Puertorriqueño\n\n\n\nCome play domino and have a good time: enjoyment guaranteed! ¡Join the DOMINO TOURNAMENT AT TALLER PUERTORRIQUEÑO! Prior registration suggested. \n\n\n\nFirst and Last Name *Email Address *Phone *Do you have a team member? *Yes\, I have a team member already.No\, I will need to be assigned one.Team Members First and Last Name *Team Member's Email Address *Team Member's Phone *Submit\n\n\n\nLa Guagua 47\, Norris Square Senior Center\, Centro Duartiano Dominicano & Taller Puertorriqueño invite you to our first ever Domino Tournament at Taller Puertorriqueño. Get ready for an afternoon of dominoes\, cultura\, and pure alegría! Join us as we bring together neighbors\, seniors\, families\, young people\, beginners\, and seasoned champions for a joyful community tournament rooted in tradition and connection. \n\n\n\nOur tournament will be bracket style with teams of two competing against each other until we reach our first place winning team! The first place team will receive a grand prize of a domino table each. Our second place team will receive gift baskets. We encourage participants to bring a team member but we will also match any single players into a team. \n\n\n\nWhether you grew up playing at your abuela’s table or you’re learning for the first time—you belong at this tournament. Come play dominoes with friends\, enjoy some music\, food\, and have a good time! \n\n\n\nEntry is free\, but donations are greatly appreciated! \n\n\n\nHosted by: La Guagua 47\, Norris Square Senior Center\, Centro Duartiano Dominicano & Taller Puertorriqueño \n\n\n\nEvent sponsor: Congreso de Latinos Unidos
URL:https://tallerpr.org/events/domino/
LOCATION:Taller Puertorriqueño\, North 5th Street 2600\, Philadelphia\, Pennsylvania\, 19133\, United States
CATEGORIES:Collaboration,Featured
ATTACH;FMTTYPE=image/jpeg:https://tallerpr.org/wp-content/uploads/2026/01/DominoTournament_WebNewsletter-scaled.jpg
GEO:39.9906891;-75.1407037
X-APPLE-STRUCTURED-LOCATION;VALUE=URI;X-ADDRESS=Taller Puertorriqueño North 5th Street 2600 Philadelphia Pennsylvania 19133 United States;X-APPLE-RADIUS=500;X-TITLE=North 5th Street 2600:geo:-75.1407037,39.9906891
END:VEVENT
END:VCALENDAR