BEGIN:VCALENDAR
VERSION:2.0
PRODID:-//Taller Puertorriqueño - ECPv6.15.17.1//NONSGML v1.0//EN
CALSCALE:GREGORIAN
METHOD:PUBLISH
X-WR-CALNAME:Taller Puertorriqueño
X-ORIGINAL-URL:https://tallerpr.org
X-WR-CALDESC:Events for Taller Puertorriqueño
REFRESH-INTERVAL;VALUE=DURATION:PT1H
X-Robots-Tag:noindex
X-PUBLISHED-TTL:PT1H
BEGIN:VTIMEZONE
TZID:America/New_York
BEGIN:DAYLIGHT
TZOFFSETFROM:-0500
TZOFFSETTO:-0400
TZNAME:EDT
DTSTART:20230312T070000
END:DAYLIGHT
BEGIN:STANDARD
TZOFFSETFROM:-0400
TZOFFSETTO:-0500
TZNAME:EST
DTSTART:20231105T060000
END:STANDARD
BEGIN:DAYLIGHT
TZOFFSETFROM:-0500
TZOFFSETTO:-0400
TZNAME:EDT
DTSTART:20240310T070000
END:DAYLIGHT
BEGIN:STANDARD
TZOFFSETFROM:-0400
TZOFFSETTO:-0500
TZNAME:EST
DTSTART:20241103T060000
END:STANDARD
BEGIN:DAYLIGHT
TZOFFSETFROM:-0500
TZOFFSETTO:-0400
TZNAME:EDT
DTSTART:20250309T070000
END:DAYLIGHT
BEGIN:STANDARD
TZOFFSETFROM:-0400
TZOFFSETTO:-0500
TZNAME:EST
DTSTART:20251102T060000
END:STANDARD
END:VTIMEZONE
BEGIN:VEVENT
DTSTART;TZID=America/New_York:20241115T170000
DTEND;TZID=America/New_York:20241115T200000
DTSTAMP:20260422T192327
CREATED:20241028T202026Z
LAST-MODIFIED:20241029T141014Z
UID:10000202-1731690000-1731700800@tallerpr.org
SUMMARY:Opening Reception: DORIS NOGUEIRA-ROGERS: FORM & CONTENT
DESCRIPTION:Friday\, November 15\, 5pm – 8pm\n\n\n\nTaller Puertorriqueño | 2600 N. 5th St\, Philadelphia\, PA 19133\n\n\n\n\n\n\nLearn More About the Show \n\n\n\n\nFREE EVENT\n\n\n\n\n\n\n\n\n\n\n\nJoin us for the opening of DORIS NOGUEIRA-ROGERS: FORM & CONTENT\, a new show by the artist Doris Nogueira-Rogers—her first solo exhibition in Taller’s new building. \n\n\n\nNogueira-Rogers\, based in Woodbury\, NJ\, was born in Rio de Janeiro\, Brazil. She has been ubiquitous in the Philadelphia artist community for 46 years and has shown widely. She has worked in various mediums\, including textiles\, linoleum blocks\, canvas\, ceramics\, and installations. Her work has often been political\, addressing social inequity\, nature\, and environmental justice while remaining colorful\, bright\, evocative\, and almost optimistic in their presentation. In her visual discourse\, she uses nature-derived abstract compositions set against rich colors and shapes to create “forms” that hold deep symbolic meaning.In her new show\, FORM & CONTENT\, Nogueira-Rogers created installations and two-dimensional work for audiences to journey through and experience. This new show highlights rarely-seen works whose themes resonate profoundly with our time. \n\n\n\n \n\n\n\n\n\nRegister Below\n\n\n\nFull Name *Email Address *How many people are attending with you?Just me1 more person2 more people3 or more peopleRegister
URL:https://tallerpr.org/events/opening-formcontent/
LOCATION:Taller Puertorriqueño\, North 5th Street 2600\, Philadelphia\, Pennsylvania\, 19133\, United States
CATEGORIES:Exhibitions Program,Featured
ATTACH;FMTTYPE=image/jpeg:https://tallerpr.org/wp-content/uploads/2024/10/Doris_WebNewsletter-1.jpeg
GEO:39.9906891;-75.1407037
X-APPLE-STRUCTURED-LOCATION;VALUE=URI;X-ADDRESS=Taller Puertorriqueño North 5th Street 2600 Philadelphia Pennsylvania 19133 United States;X-APPLE-RADIUS=500;X-TITLE=North 5th Street 2600:geo:-75.1407037,39.9906891
END:VEVENT
END:VCALENDAR