BEGIN:VCALENDAR
VERSION:2.0
PRODID:-//Taller Puertorriqueño - ECPv6.15.17.1//NONSGML v1.0//EN
CALSCALE:GREGORIAN
METHOD:PUBLISH
X-ORIGINAL-URL:https://tallerpr.org
X-WR-CALDESC:Events for Taller Puertorriqueño
REFRESH-INTERVAL;VALUE=DURATION:PT1H
X-Robots-Tag:noindex
X-PUBLISHED-TTL:PT1H
BEGIN:VTIMEZONE
TZID:America/New_York
BEGIN:DAYLIGHT
TZOFFSETFROM:-0500
TZOFFSETTO:-0400
TZNAME:EDT
DTSTART:20220313T070000
END:DAYLIGHT
BEGIN:STANDARD
TZOFFSETFROM:-0400
TZOFFSETTO:-0500
TZNAME:EST
DTSTART:20221106T060000
END:STANDARD
BEGIN:DAYLIGHT
TZOFFSETFROM:-0500
TZOFFSETTO:-0400
TZNAME:EDT
DTSTART:20230312T070000
END:DAYLIGHT
BEGIN:STANDARD
TZOFFSETFROM:-0400
TZOFFSETTO:-0500
TZNAME:EST
DTSTART:20231105T060000
END:STANDARD
BEGIN:DAYLIGHT
TZOFFSETFROM:-0500
TZOFFSETTO:-0400
TZNAME:EDT
DTSTART:20240310T070000
END:DAYLIGHT
BEGIN:STANDARD
TZOFFSETFROM:-0400
TZOFFSETTO:-0500
TZNAME:EST
DTSTART:20241103T060000
END:STANDARD
END:VTIMEZONE
BEGIN:VEVENT
DTSTART;TZID=America/New_York:20231007T100000
DTEND;TZID=America/New_York:20231007T120000
DTSTAMP:20260419T160843
CREATED:20230908T020943Z
LAST-MODIFIED:20230908T023219Z
UID:10000142-1696672800-1696680000@tallerpr.org
SUMMARY:Meet the Author & Storytime: PlÃ¡tanos Go With Everything
DESCRIPTION:A vibrant and cheerful ode to plÃ¡tanos\, the star of Dominican cuisine\, written by award-winning poet Lissette Norman. Join us for storytime with the author on October 7! This free bilingual event is for all ages. Craft activities and light food will be provided. \n\n\n\nÃnete a nosotros para una hora de cuentos el 7 de octubre con la autora y poetisa Lissette Norman. Este evento bilingÃ¼e gratuito es para todas las edades. Tendremos actividades creativas y comida ligera. \n\n\n\nRSVP HERE
URL:https://tallerpr.org/events/meet-the-author-storytime-platanos-go-with-everything/
CATEGORIES:Julia de Burgos Bookstore,Meet the Author
ATTACH;FMTTYPE=image/jpeg:https://tallerpr.org/wp-content/uploads/2023/09/Lisette_Email_WebsiteBanner.jpg
END:VEVENT
BEGIN:VEVENT
DTSTART;TZID=America/New_York:20231011T180000
DTEND;TZID=America/New_York:20231011T200000
DTSTAMP:20260419T160843
CREATED:20230908T021216Z
LAST-MODIFIED:20230921T141852Z
UID:10000143-1697047200-1697054400@tallerpr.org
SUMMARY:Hatchet Girls Book Release Party
DESCRIPTION:Join us for Q&A and a book signing to celebrate the release of Hatchet Girls\, a YA Latinx horror novel by local author Diana Rodriguez Wallach in conversation with Vincent Tirado. \n\n\n\nFree on-site parking lot. Light refreshments provided. The discussion will be in English. \n\n\n\nRSVP HERE
URL:https://tallerpr.org/events/hatchet-girls-book-release-party/
CATEGORIES:Julia de Burgos Bookstore,Meet the Author
ATTACH;FMTTYPE=image/jpeg:https://tallerpr.org/wp-content/uploads/2023/09/Diane_EmailWebsiteBanner.jpg
END:VEVENT
BEGIN:VEVENT
DTSTART;TZID=America/New_York:20231026T180000
DTEND;TZID=America/New_York:20231026T200000
DTSTAMP:20260419T160843
CREATED:20231020T141616Z
LAST-MODIFIED:20231020T141629Z
UID:10000150-1698343200-1698350400@tallerpr.org
SUMMARY:Agave Spirits: Book Talk & Tequila
DESCRIPTION:Explore the world of tequilas and mezcals with pioneering restaurateur and author David Suro PiÃ±era. His book Agave Spirits\, essential reading for mezcal connoisseurs and amateurs alike\, tells the tale of the most flavorful spirits humankind has ever sipped and sheds light on the past\, present\, and future of mezcals. Join us for a book presentation along with tacos from Cantina La Martina and tequila cocktails. \n\n\n\n6:00 PM – 6:30 PM: Welcome and Cocktails6:30 PM – 7:15 PM: David Suro PiÃ±era’s Presentation and Q&A7:15 PM – 8:00 PM: Book signing\, food\, and cocktails \n\n\n\nPurchase Tickets & Learn More
URL:https://tallerpr.org/events/agave-spirits-book-talk-tequila-2/
LOCATION:Taller PuertorriqueÃ±o\, 2600 N 5th\, Philadelphia\, PA\, 19133\, United States
CATEGORIES:Julia de Burgos Bookstore,Meet the Author
ATTACH;FMTTYPE=image/jpeg:https://tallerpr.org/wp-content/uploads/2023/10/MTA_DavidSuro_Graphics_EmailWebsiteBanner.jpg
GEO:39.990701;-75.14091
X-APPLE-STRUCTURED-LOCATION;VALUE=URI;X-ADDRESS=Taller PuertorriqueÃ±o 2600 N 5th Philadelphia PA 19133 United States;X-APPLE-RADIUS=500;X-TITLE=2600 N 5th:geo:-75.14091,39.990701
END:VEVENT
END:VCALENDAR