BEGIN:VCALENDAR
VERSION:2.0
PRODID:-//Taller Puertorriqueño - ECPv6.15.17.1//NONSGML v1.0//EN
CALSCALE:GREGORIAN
METHOD:PUBLISH
X-ORIGINAL-URL:https://tallerpr.org
X-WR-CALDESC:Events for Taller Puertorriqueño
REFRESH-INTERVAL;VALUE=DURATION:PT1H
X-Robots-Tag:noindex
X-PUBLISHED-TTL:PT1H
BEGIN:VTIMEZONE
TZID:America/New_York
BEGIN:DAYLIGHT
TZOFFSETFROM:-0500
TZOFFSETTO:-0400
TZNAME:EDT
DTSTART:20230312T070000
END:DAYLIGHT
BEGIN:STANDARD
TZOFFSETFROM:-0400
TZOFFSETTO:-0500
TZNAME:EST
DTSTART:20231105T060000
END:STANDARD
BEGIN:DAYLIGHT
TZOFFSETFROM:-0500
TZOFFSETTO:-0400
TZNAME:EDT
DTSTART:20240310T070000
END:DAYLIGHT
BEGIN:STANDARD
TZOFFSETFROM:-0400
TZOFFSETTO:-0500
TZNAME:EST
DTSTART:20241103T060000
END:STANDARD
BEGIN:DAYLIGHT
TZOFFSETFROM:-0500
TZOFFSETTO:-0400
TZNAME:EDT
DTSTART:20250309T070000
END:DAYLIGHT
BEGIN:STANDARD
TZOFFSETFROM:-0400
TZOFFSETTO:-0500
TZNAME:EST
DTSTART:20251102T060000
END:STANDARD
END:VTIMEZONE
BEGIN:VEVENT
DTSTART;TZID=America/New_York:20240207T180000
DTEND;TZID=America/New_York:20240207T200000
DTSTAMP:20260420T132409
CREATED:20240112T155045Z
LAST-MODIFIED:20240112T155050Z
UID:10000161-1707328800-1707336000@tallerpr.org
SUMMARY:Book Launch Party: The Girl\, the Ring\, and the Baseball Bat
DESCRIPTION:FREE EVENT \n\n\n\nCelebrate the release of local author Camille Gomera-Tavaresâs new book! Join us on Wednesday\, February 7\, 6pm-8pm\, for Q&A\, book signing\, and light refreshments. With author Camille Gomera-Tavarez.  \n\n\n\n\nRegister For Event
URL:https://tallerpr.org/events/book-launch-party-the-girl-the-ring-and-the-baseball-bat/
LOCATION:Taller PuertorriqueÃ±o\, 2600 N 5th\, Philadelphia\, PA\, 19133\, United States
CATEGORIES:Julia de Burgos Bookstore,Meet the Author
ATTACH;FMTTYPE=image/jpeg:https://tallerpr.org/wp-content/uploads/2024/01/GRRB_EmailWeb.jpg
GEO:39.990701;-75.14091
X-APPLE-STRUCTURED-LOCATION;VALUE=URI;X-ADDRESS=Taller PuertorriqueÃ±o 2600 N 5th Philadelphia PA 19133 United States;X-APPLE-RADIUS=500;X-TITLE=2600 N 5th:geo:-75.14091,39.990701
END:VEVENT
END:VCALENDAR