BEGIN:VCALENDAR
VERSION:2.0
PRODID:-//Taller Puertorriqueño - ECPv6.15.17.1//NONSGML v1.0//EN
CALSCALE:GREGORIAN
METHOD:PUBLISH
X-ORIGINAL-URL:https://tallerpr.org
X-WR-CALDESC:Events for Taller Puertorriqueño
REFRESH-INTERVAL;VALUE=DURATION:PT1H
X-Robots-Tag:noindex
X-PUBLISHED-TTL:PT1H
BEGIN:VTIMEZONE
TZID:America/New_York
BEGIN:DAYLIGHT
TZOFFSETFROM:-0500
TZOFFSETTO:-0400
TZNAME:EDT
DTSTART:20230312T070000
END:DAYLIGHT
BEGIN:STANDARD
TZOFFSETFROM:-0400
TZOFFSETTO:-0500
TZNAME:EST
DTSTART:20231105T060000
END:STANDARD
BEGIN:DAYLIGHT
TZOFFSETFROM:-0500
TZOFFSETTO:-0400
TZNAME:EDT
DTSTART:20240310T070000
END:DAYLIGHT
BEGIN:STANDARD
TZOFFSETFROM:-0400
TZOFFSETTO:-0500
TZNAME:EST
DTSTART:20241103T060000
END:STANDARD
BEGIN:DAYLIGHT
TZOFFSETFROM:-0500
TZOFFSETTO:-0400
TZNAME:EDT
DTSTART:20250309T070000
END:DAYLIGHT
BEGIN:STANDARD
TZOFFSETFROM:-0400
TZOFFSETTO:-0500
TZNAME:EST
DTSTART:20251102T060000
END:STANDARD
END:VTIMEZONE
BEGIN:VEVENT
DTSTART;TZID=America/New_York:20240412T180000
DTEND;TZID=America/New_York:20240412T210000
DTSTAMP:20260419T113750
CREATED:20240315T203837Z
LAST-MODIFIED:20240320T122104Z
UID:10000168-1712944800-1712955600@tallerpr.org
SUMMARY:Betsy Z. Casañas: Call & Response Opening Reception
DESCRIPTION:FREE EVENT \n\n\n\nJoin us on April 12\, 2024\, from 6:00 pm – 9:00 pm for a captivating journey through the vibrant narratives of the Fairhill neighborhoods as we celebrate the opening reception of Betsy Z. Casañas’ exhibition\, Call & Response. This groundbreaking exhibition\, on view from April 5\, 2024\, to May 25\, 2024\, not only revisits some of Casañas’s critical murals but also unveils new work in Taller’s gallery. \n\n\n\nAbout the Artist:Betsy Z. Casañas\, a native of the community surrounding Taller\, is a multifaceted force – an activist\, teacher\, community gardener\, painter\, and mural artist. Her artistic journey is rooted in the desire to amplify the voices of individuals and communities. With a career spanning across the globe\, Casañas has left her indelible mark with over 70 murals\, stretching from the streets of Paraguay to the shores of the Caribbean\, from the verdant landscapes of Ireland to the bustling cityscape of Dubai\, and everywhere in between. \n\n\n\n\n\n\n\n\nAbout the Exhibition\n\n\n\n\n\n\n\n\nLet us know you’re coming! Register below. \n\n\n\n\n\n\n\nFull Name *Email Address *How many people are attending with you?Just me1 more person2 more people3 or more peopleRegister
URL:https://tallerpr.org/events/callresponse_opening/
LOCATION:Taller PuertorriqueÃ±o\, 2600 N 5th\, Philadelphia\, PA\, 19133\, United States
ATTACH;FMTTYPE=image/jpeg:https://tallerpr.org/wp-content/uploads/2024/03/Betsy_SD_WebNewsletter-1.jpg
GEO:39.990701;-75.14091
X-APPLE-STRUCTURED-LOCATION;VALUE=URI;X-ADDRESS=Taller PuertorriqueÃ±o 2600 N 5th Philadelphia PA 19133 United States;X-APPLE-RADIUS=500;X-TITLE=2600 N 5th:geo:-75.14091,39.990701
END:VEVENT
BEGIN:VEVENT
DTSTART;TZID=America/New_York:20240413T100000
DTEND;TZID=America/New_York:20240413T120000
DTSTAMP:20260419T113750
CREATED:20240319T173337Z
LAST-MODIFIED:20240320T134456Z
UID:10000169-1713002400-1713009600@tallerpr.org
SUMMARY:Storytime & Clothing Swap: Paula's Patches
DESCRIPTION:Join us for a book reading & clothing swap on Saturday\, April 13\, at a special Meet the Author event with Gabriella Adleman! In Paula’s Patches\, Paula overcomes embarrassment with creative problem-solving and encourages her classmates to be resourceful\, mend\, and reuse.  \n\n\n\nSTORYTIME 10am-12pm:  Join us to read Paula’s Patches with Gabriella Aldeman\, a Panamanian American author and professional translator. Light food will be provided and the reading will be followed by a craft activity. Note: The book is in English but the presentation will be bilingual. RSVP at shoptallerpr.org/paulaspatches \n\n\n\nCLOTHING SWAP 10am-4pm: Bring your gently loved pieces and trade them for something new-to-you! Open to all ages and genders\, no registration required.  \n\n\n\n\nRegister for Event
URL:https://tallerpr.org/events/paulaspatches/
LOCATION:Taller PuertorriqueÃ±o\, 2600 N 5th\, Philadelphia\, PA\, 19133\, United States
CATEGORIES:Julia de Burgos Bookstore,Meet the Author
ATTACH;FMTTYPE=image/jpeg:https://tallerpr.org/wp-content/uploads/2024/03/Patches_EmailWeb-1.jpg
GEO:39.990701;-75.14091
X-APPLE-STRUCTURED-LOCATION;VALUE=URI;X-ADDRESS=Taller PuertorriqueÃ±o 2600 N 5th Philadelphia PA 19133 United States;X-APPLE-RADIUS=500;X-TITLE=2600 N 5th:geo:-75.14091,39.990701
END:VEVENT
BEGIN:VEVENT
DTSTART;TZID=America/New_York:20240418T180000
DTEND;TZID=America/New_York:20240418T200000
DTSTAMP:20260419T113750
CREATED:20240412T111106Z
LAST-MODIFIED:20240412T174823Z
UID:10000172-1713463200-1713470400@tallerpr.org
SUMMARY:Braiding Circles: Community Workshop by Veronica Perez
DESCRIPTION:Join us for Veronica Perez’s Braiding Circles\, a community-building project with a mission to combat feelings of isolation and create spaces where individuals from diverse backgrounds feel a sense of belonging. Drawing inspiration from her family history and the ongoing struggle for cross-cultural understanding\, Veronica emphasizes the importance of interdependency and empathy in our survival. \n\n\n\nVeronica Perez’s Braiding Circles are FREE workshops that offer participants a unique opportunity to engage meaningfully with heritage\, art\, and community. By braiding together and sharing stories\, attendees create beautiful artworks and contribute to a collective archive of resilience and belonging. Learn More about the project here. Prior registration is needed to join the Braiding Circle. Signup below! \n\n\n\n\nRegister for Workshop
URL:https://tallerpr.org/events/braidingcircles18/
LOCATION:Taller PuertorriqueÃ±o\, 2600 N 5th\, Philadelphia\, PA\, 19133\, United States
CATEGORIES:Workshop
ATTACH;FMTTYPE=image/jpeg:https://tallerpr.org/wp-content/uploads/2024/04/1.jpg
GEO:39.990701;-75.14091
X-APPLE-STRUCTURED-LOCATION;VALUE=URI;X-ADDRESS=Taller PuertorriqueÃ±o 2600 N 5th Philadelphia PA 19133 United States;X-APPLE-RADIUS=500;X-TITLE=2600 N 5th:geo:-75.14091,39.990701
END:VEVENT
BEGIN:VEVENT
DTSTART;TZID=America/New_York:20240419T163000
DTEND;TZID=America/New_York:20240419T183000
DTSTAMP:20260419T113750
CREATED:20240412T112034Z
LAST-MODIFIED:20240412T175127Z
UID:10000173-1713544200-1713551400@tallerpr.org
SUMMARY:Braiding Circles: Community Workshop by Veronica Perez
DESCRIPTION:Join us for Veronica Perez’s Braiding Circles\, a community-building project with a mission to combat feelings of isolation and create spaces where individuals from diverse backgrounds feel a sense of belonging. Drawing inspiration from her family history and the ongoing struggle for cross-cultural understanding\, Veronica emphasizes the importance of interdependency and empathy in our survival. \n\n\n\nVeronica Perez’s Braiding Circles are FREE workshops that offer participants a unique opportunity to engage meaningfully with heritage\, art\, and community. By braiding together and sharing stories\, attendees create beautiful artworks and contribute to a collective archive of resilience and belonging. Learn More about the project here. Prior registration is needed to join the Braiding Circle. Signup below! \n\n\n\n\nRegister for Workshop
URL:https://tallerpr.org/events/braidingcircles19/
LOCATION:Taller PuertorriqueÃ±o\, 2600 N 5th\, Philadelphia\, PA\, 19133\, United States
CATEGORIES:Workshop
ATTACH;FMTTYPE=image/jpeg:https://tallerpr.org/wp-content/uploads/2024/04/2.jpg
GEO:39.990701;-75.14091
X-APPLE-STRUCTURED-LOCATION;VALUE=URI;X-ADDRESS=Taller PuertorriqueÃ±o 2600 N 5th Philadelphia PA 19133 United States;X-APPLE-RADIUS=500;X-TITLE=2600 N 5th:geo:-75.14091,39.990701
END:VEVENT
BEGIN:VEVENT
DTSTART;TZID=America/New_York:20240420T130000
DTEND;TZID=America/New_York:20240420T150000
DTSTAMP:20260419T113750
CREATED:20240412T112505Z
LAST-MODIFIED:20240412T175504Z
UID:10000174-1713618000-1713625200@tallerpr.org
SUMMARY:Braiding Circles: Community Workshop by Veronica Perez
DESCRIPTION:Join us for Veronica Perez’s Braiding Circles\, a community-building project with a mission to combat feelings of isolation and create spaces where individuals from diverse backgrounds feel a sense of belonging. Drawing inspiration from her family history and the ongoing struggle for cross-cultural understanding\, Veronica emphasizes the importance of interdependency and empathy in our survival. \n\n\n\nVeronica Perez’s Braiding Circles are FREE workshops that offer participants a unique opportunity to engage meaningfully with heritage\, art\, and community. By braiding together and sharing stories\, attendees create beautiful artworks and contribute to a collective archive of resilience and belonging.  \n\n\n\nLearn More about the project here. Prior registration is needed to join the Braiding Circle. Signup below! \n\n\n\n\nRegister for Workshop
URL:https://tallerpr.org/events/braidingcircles20/
LOCATION:Taller PuertorriqueÃ±o\, 2600 N 5th\, Philadelphia\, PA\, 19133\, United States
CATEGORIES:Workshop
ATTACH;FMTTYPE=image/jpeg:https://tallerpr.org/wp-content/uploads/2024/04/3-1.jpg
GEO:39.990701;-75.14091
X-APPLE-STRUCTURED-LOCATION;VALUE=URI;X-ADDRESS=Taller PuertorriqueÃ±o 2600 N 5th Philadelphia PA 19133 United States;X-APPLE-RADIUS=500;X-TITLE=2600 N 5th:geo:-75.14091,39.990701
END:VEVENT
BEGIN:VEVENT
DTSTART;TZID=America/New_York:20240427T100000
DTEND;TZID=America/New_York:20240427T120000
DTSTAMP:20260419T113750
CREATED:20240403T153018Z
LAST-MODIFIED:20240403T153021Z
UID:10000170-1714212000-1714219200@tallerpr.org
SUMMARY:Churro Stand: Book Launch & Storytime
DESCRIPTION:Join us for a book launch of Churro Stand / El carrito de churros with author Karina N. González and illustrator Krystal Quiles on April 27 from 10am – 12pm! This free event is for all ages\, including a book reading\, signing\, craft activities\, and free churros from El Merkury! RSVP and pre-order the book at shoptallerpr.org/churrostand. \n\n\n\n\nREGISTER FOR EVENT
URL:https://tallerpr.org/events/churrostand/
LOCATION:Taller PuertorriqueÃ±o\, 2600 N 5th\, Philadelphia\, PA\, 19133\, United States
CATEGORIES:Julia de Burgos Bookstore,Meet the Author
ATTACH;FMTTYPE=image/jpeg:https://tallerpr.org/wp-content/uploads/2024/04/ChurroStand_EmailWeb.jpg
GEO:39.990701;-75.14091
X-APPLE-STRUCTURED-LOCATION;VALUE=URI;X-ADDRESS=Taller PuertorriqueÃ±o 2600 N 5th Philadelphia PA 19133 United States;X-APPLE-RADIUS=500;X-TITLE=2600 N 5th:geo:-75.14091,39.990701
END:VEVENT
END:VCALENDAR