BEGIN:VCALENDAR
VERSION:2.0
PRODID:-//Taller Puertorriqueño - ECPv6.15.17.1//NONSGML v1.0//EN
CALSCALE:GREGORIAN
METHOD:PUBLISH
X-WR-CALNAME:Taller Puertorriqueño
X-ORIGINAL-URL:https://tallerpr.org
X-WR-CALDESC:Events for Taller Puertorriqueño
REFRESH-INTERVAL;VALUE=DURATION:PT1H
X-Robots-Tag:noindex
X-PUBLISHED-TTL:PT1H
BEGIN:VTIMEZONE
TZID:America/New_York
BEGIN:DAYLIGHT
TZOFFSETFROM:-0500
TZOFFSETTO:-0400
TZNAME:EDT
DTSTART:20230312T070000
END:DAYLIGHT
BEGIN:STANDARD
TZOFFSETFROM:-0400
TZOFFSETTO:-0500
TZNAME:EST
DTSTART:20231105T060000
END:STANDARD
BEGIN:DAYLIGHT
TZOFFSETFROM:-0500
TZOFFSETTO:-0400
TZNAME:EDT
DTSTART:20240310T070000
END:DAYLIGHT
BEGIN:STANDARD
TZOFFSETFROM:-0400
TZOFFSETTO:-0500
TZNAME:EST
DTSTART:20241103T060000
END:STANDARD
BEGIN:DAYLIGHT
TZOFFSETFROM:-0500
TZOFFSETTO:-0400
TZNAME:EDT
DTSTART:20250309T070000
END:DAYLIGHT
BEGIN:STANDARD
TZOFFSETFROM:-0400
TZOFFSETTO:-0500
TZNAME:EST
DTSTART:20251102T060000
END:STANDARD
END:VTIMEZONE
BEGIN:VEVENT
DTSTART;TZID=America/New_York:20240712T170000
DTEND;TZID=America/New_York:20240712T200000
DTSTAMP:20260420T000335
CREATED:20240624T192534Z
LAST-MODIFIED:20240627T184732Z
UID:10000181-1720803600-1720814400@tallerpr.org
SUMMARY:Raul Ortiz Bonilla: Semillas Opening Reception
DESCRIPTION:Semillas: An Exhibition by Raul Ortiz Bonilla\n\n\n\nOn View: July 12\, 2024 – August 10\, 2024Opening Reception: July 12\, 2024\, 5 PM to 8 PM \n\n\n\nJoin us for the opening reception of “Semillas\,” a captivating exhibition featuring sixteen artworks by acclaimed Puerto Rican artist Raul Ortiz Bonilla. Ortiz Bonilla\, who immigrated from Puerto Rico to Chicago in his early twenties\, invites viewers to explore the intricate tapestry of Puerto Rican history and diasporic identity through his surreal and thought-provoking artworks. \n\n\n\nDon’t miss the opportunity to immerse yourself in the rich tapestry of “Semillas” by Raul Ortiz Bonilla. Experience his compelling narrative of migration\, adaptation\, and the enduring spirit of Puerto Rican heritage. Join us as we celebrate the opening of this extraordinary exhibition. \n\n\n\nLearn more about the exhibition here \n\n\n\nRSVP below to let us know you’re coming! \n\n\n\nFull Name *Email Address *How many people are attending with you?Just me1 more person2 more people3 or more peopleRegister
URL:https://tallerpr.org/events/semillas-opening/
LOCATION:Taller PuertorriqueÃ±o\, 2600 N 5th\, Philadelphia\, PA\, 19133\, United States
ATTACH;FMTTYPE=image/jpeg:https://tallerpr.org/wp-content/uploads/2024/06/Semillas_WebNewsletter.jpg
GEO:39.990701;-75.14091
X-APPLE-STRUCTURED-LOCATION;VALUE=URI;X-ADDRESS=Taller PuertorriqueÃ±o 2600 N 5th Philadelphia PA 19133 United States;X-APPLE-RADIUS=500;X-TITLE=2600 N 5th:geo:-75.14091,39.990701
END:VEVENT
BEGIN:VEVENT
DTSTART;TZID=America/New_York:20240713T110000
DTEND;TZID=America/New_York:20240713T140000
DTSTAMP:20260420T000335
CREATED:20240613T161526Z
LAST-MODIFIED:20240613T161532Z
UID:10000180-1720868400-1720879200@tallerpr.org
SUMMARY:Book Launch: Gloriana Presente
DESCRIPTION:Celebrate the launch of a new picture book by Alyssa Reynoso-Morris\, author of Plátanos Are Love.Join us on Saturday\, July 13\, at 11am for the launch of Gloriana\, Presente.  \n\n\n\nThis event is free and open to all ages. RSVP and pre-order the book below! \n\n\n\n\nRSVP FOR EVENT
URL:https://tallerpr.org/events/glorianapresente/
LOCATION:Taller PuertorriqueÃ±o\, 2600 N 5th\, Philadelphia\, PA\, 19133\, United States
CATEGORIES:Julia de Burgos Bookstore,Meet the Author
ATTACH;FMTTYPE=image/jpeg:https://tallerpr.org/wp-content/uploads/2024/06/Gloriana_EmailWeb.jpg
GEO:39.990701;-75.14091
X-APPLE-STRUCTURED-LOCATION;VALUE=URI;X-ADDRESS=Taller PuertorriqueÃ±o 2600 N 5th Philadelphia PA 19133 United States;X-APPLE-RADIUS=500;X-TITLE=2600 N 5th:geo:-75.14091,39.990701
END:VEVENT
BEGIN:VEVENT
DTSTART;TZID=America/New_York:20240725T180000
DTEND;TZID=America/New_York:20240725T200000
DTSTAMP:20260420T000335
CREATED:20240717T153731Z
LAST-MODIFIED:20240717T153737Z
UID:10000182-1721930400-1721937600@tallerpr.org
SUMMARY:Summer Teen Media Program Films Screening
DESCRIPTION:Don’t miss the Summer Teen Media Program Screening happening on Thursday July 25\, 2024 from 6-8pm at Taller Puertorriqueño. We’ll be premiering and celebrating new films created by youth in the Summer Teen Media Program! \n\n\n\nThe Summer Teen Media Program is a 6-week intensive where high school students from across Philadelphia collaborate on original films from script-to-screen. Youth learn screenwriting\, cinematography\, audio\, acting and editing under the mentorship of professional filmmakers\, and even get the chance to pitch their films to a panel of industry professionals. \n\n\n\nFREE EVENT \n\n\n\n\nRegister for Event
URL:https://tallerpr.org/events/teenmediascreening/
LOCATION:Taller PuertorriqueÃ±o\, 2600 N 5th\, Philadelphia\, PA\, 19133\, United States
CATEGORIES:Collaboration
ATTACH;FMTTYPE=image/jpeg:https://tallerpr.org/wp-content/uploads/2024/07/SummerTeenMedia-02-scaled.jpeg
GEO:39.990701;-75.14091
X-APPLE-STRUCTURED-LOCATION;VALUE=URI;X-ADDRESS=Taller PuertorriqueÃ±o 2600 N 5th Philadelphia PA 19133 United States;X-APPLE-RADIUS=500;X-TITLE=2600 N 5th:geo:-75.14091,39.990701
END:VEVENT
BEGIN:VEVENT
DTSTART;TZID=America/New_York:20240727T170000
DTEND;TZID=America/New_York:20240727T210000
DTSTAMP:20260420T000335
CREATED:20240717T154146Z
LAST-MODIFIED:20240717T154149Z
UID:10000183-1722099600-1722114000@tallerpr.org
SUMMARY:Philly Latino Unity Fest: Chisme Tour 2024
DESCRIPTION:We’re collaborating with Mijente\, Juntos\, and The Fela Cintron Foundation to bring an unforgettable night of entertainment\, food\, art\, and insightful local political chisme. \n\n\n\nLive Performance by Mariposas Galácticas & Dale Con To’ \n\n\n\nDive into a night filled with vibrant performances as Mariposas Galácticas and Dale Con To’ take the stage. Known for their dynamic and powerful artistic expressions\, they celebrate and uplift the voices of the Latinx community through music and dance. \n\n\n\nSilk Screening and Live Banner Painting with Juntos \n\n\n\nWe’ll also be featuring a hands-on art session where you can participate in silk screening and live banner painting with our compas from Juntos\, a community-led\, Latine immigrant organization in South Philadelphia fighting for our human rights as workers\, parents\, youth\, and immigrants. \n\n\n\nWith all that we’re up against\, gathering together to chismear\, to celebrate\, and to stand strong is essential. We’re ready to get real about what’s ahead in November\, highlight the organizing power we’re building at the local level\, and have a good time while we’re at it. We can’t wait to see you there\, to share this space\, and show the strength of nuestra gente. \n\n\n\nFREE EVENT \n\n\n\n\nRegister for Event
URL:https://tallerpr.org/events/unityfest/
LOCATION:Taller PuertorriqueÃ±o\, 2600 N 5th\, Philadelphia\, PA\, 19133\, United States
CATEGORIES:Collaboration
ATTACH;FMTTYPE=image/jpeg:https://tallerpr.org/wp-content/uploads/2024/07/chisme-scaled.jpeg
GEO:39.990701;-75.14091
X-APPLE-STRUCTURED-LOCATION;VALUE=URI;X-ADDRESS=Taller PuertorriqueÃ±o 2600 N 5th Philadelphia PA 19133 United States;X-APPLE-RADIUS=500;X-TITLE=2600 N 5th:geo:-75.14091,39.990701
END:VEVENT
END:VCALENDAR