BEGIN:VCALENDAR
VERSION:2.0
PRODID:-//Taller Puertorriqueño - ECPv6.15.17.1//NONSGML v1.0//EN
CALSCALE:GREGORIAN
METHOD:PUBLISH
X-WR-CALNAME:Taller Puertorriqueño
X-ORIGINAL-URL:https://tallerpr.org
X-WR-CALDESC:Events for Taller Puertorriqueño
REFRESH-INTERVAL;VALUE=DURATION:PT1H
X-Robots-Tag:noindex
X-PUBLISHED-TTL:PT1H
BEGIN:VTIMEZONE
TZID:America/New_York
BEGIN:DAYLIGHT
TZOFFSETFROM:-0500
TZOFFSETTO:-0400
TZNAME:EDT
DTSTART:20240310T070000
END:DAYLIGHT
BEGIN:STANDARD
TZOFFSETFROM:-0400
TZOFFSETTO:-0500
TZNAME:EST
DTSTART:20241103T060000
END:STANDARD
BEGIN:DAYLIGHT
TZOFFSETFROM:-0500
TZOFFSETTO:-0400
TZNAME:EDT
DTSTART:20250309T070000
END:DAYLIGHT
BEGIN:STANDARD
TZOFFSETFROM:-0400
TZOFFSETTO:-0500
TZNAME:EST
DTSTART:20251102T060000
END:STANDARD
BEGIN:DAYLIGHT
TZOFFSETFROM:-0500
TZOFFSETTO:-0400
TZNAME:EDT
DTSTART:20260308T070000
END:DAYLIGHT
BEGIN:STANDARD
TZOFFSETFROM:-0400
TZOFFSETTO:-0500
TZNAME:EST
DTSTART:20261101T060000
END:STANDARD
END:VTIMEZONE
BEGIN:VEVENT
DTSTART;TZID=America/New_York:20250501T183000
DTEND;TZID=America/New_York:20250501T200000
DTSTAMP:20260425T090500
CREATED:20250417T162815Z
LAST-MODIFIED:20250417T163215Z
UID:10000225-1746124200-1746129600@tallerpr.org
SUMMARY:Artist Talk Shifting Realities: 12 Artists Finding Place in Uncertain Times​
DESCRIPTION:Thursday\, May 1\, 6:30pm\n\n\n\nTaller Puertorriqueño | 2600 N. 5th St\, Philadelphia\, PA 19133\n\n\n\n\n\n\nLearn More About the Show \n\n\n\n\nFREE EVENT | RSVP BELOW\n\n\n\n\n\n\n\n\n\nFull Name *Email Address *How many people are attending with you?Just me1 more person2 more people3 or more peopleRegister\n\n\n\n\n\nShifting Realities showcases a group of diverse artists whose practices confront our current landscape of political polarization and widespread doubt. Through their work\, these artists navigate paths toward stability and solace for themselves and their communities amid profound societal transformation. \n\n\n\nThis artist conversation is part of the exhibition whose theme asks a fundamental question: What constitutes our shared reality in an era when historical narratives face revision\, factual foundations erode\, and individual identities risk being silenced? \n\n\n\nJoin us at 6:30 p.m. at Taller for a discussion with artists Linette Messina Martinez\, Symone Salib\, and Kalila Jones about their work and the work in the show. Richie Lopez\, artist and Project Manager for Tramando will moderate the talk.ve actions employ sculpture\, media\, print\, live actions\, and cooking. \n\n\n\nAbout the Artists\n\n\n\nSymone Salib \n\n\n\nSymone Salib is a first-generation Cuban/Egyptian muralist\, illustrator\, and trauma-informed educator whose art centers on community members’ storytelling through large-scale public installations. Firmly rooted in portraiture\, her work envisions a world of radical possibilities where equality and justice are at the center. By focusing on the voices and faces of marginalized communities\, Symone uses her art to uplift and amplify those who are often overlooked. \n\n\n\nLinette Messina Martinez\n\n\n\nLinette Messina Martinez is a photographer and textile artist. For years\, she has been creating yarn art on Philadelphia streets. Her work beautifies\, celebrates\, and connects people to their neighborhoods. Her monumental work for the exhibition Threads of Sicilian Passage looked at a loss\, the death of someone special\, and the change in family structure as an opportunity for rebirth. \n\n\n\nKalila Jones\n\n\n\nKalila Jones is a multidisciplinary artist based in Philadelphia\, PA\, whose art explores the intersections of their identity through material exploration. She uses yarn\, found textiles\, hair accessories\, and dollar store craft supplies to make collaged textile garments and sculptures that evoke joy and nostalgia. Their use of material helps them navigate what it means to express a sense of unapologetic self in a society that often presents race & gender as monolithic experiences.
URL:https://tallerpr.org/events/artisttalkshiftingrealities2/
LOCATION:Taller Puertorriqueño\, North 5th Street 2600\, Philadelphia\, Pennsylvania\, 19133\, United States
CATEGORIES:Exhibitions Program
ATTACH;FMTTYPE=image/jpeg:https://tallerpr.org/wp-content/uploads/2025/04/ShiftingRealities_ArtistTalk_02-scaled.jpg
GEO:39.9906891;-75.1407037
X-APPLE-STRUCTURED-LOCATION;VALUE=URI;X-ADDRESS=Taller Puertorriqueño North 5th Street 2600 Philadelphia Pennsylvania 19133 United States;X-APPLE-RADIUS=500;X-TITLE=North 5th Street 2600:geo:-75.1407037,39.9906891
END:VEVENT
BEGIN:VEVENT
DTSTART;TZID=America/New_York:20250510T110000
DTEND;TZID=America/New_York:20250510T140000
DTSTAMP:20260425T090500
CREATED:20250325T174138Z
LAST-MODIFIED:20250325T201034Z
UID:10000219-1746874800-1746885600@tallerpr.org
SUMMARY:Taller Puertorriqueño’s Spring Fundraiser: El Mercado A Latino Art Market
DESCRIPTION:Saturday\, May 10 from 11am -2pm\n\n\n\nTaller Puertorriqueño | 2600 N. 5th St\, Philadelphia\, PA 19133\n\n\n\n\n\n\nLearn More\n\n\n\n\nFREE / DONATION SUGGESTED | PUBLIC EVENT \n\n\n\n\n\n\n\n\n\nSave the Date for our annual Spring Fundraiser! \n\n\n\nEl Mercado: A Latino Art Market at Taller Puertorriqueño in Philadelphia on Saturday\, May 10\, 2025\, from 11AM to 2PM! Get ready for an afternoon filled with vibrant art\, culture\, and community as we celebrate local Philly Latino artists and support Taller’s Education Programs. \n\n\n\nWhat to Expect:\n\n\n\n\nArtisan Market featuring unique art\, jewelry\, prints\, textiles\, and more from talented Latine artists \n\n\n\nMeet the Artists and learn about their incredible work\n\n\n\nHands-on Activities like creating your own print \n\n\n\nDelicious Food Trucks \n\n\n\nExhibition at Taller’s Gallery
URL:https://tallerpr.org/events/springfundraiser/
LOCATION:Taller Puertorriqueño\, North 5th Street 2600\, Philadelphia\, Pennsylvania\, 19133\, United States
CATEGORIES:Featured,Fundraiser
ATTACH;FMTTYPE=image/jpeg:https://tallerpr.org/wp-content/uploads/2025/03/Mercado_WebNewsletter-03-scaled.jpeg
GEO:39.9906891;-75.1407037
X-APPLE-STRUCTURED-LOCATION;VALUE=URI;X-ADDRESS=Taller Puertorriqueño North 5th Street 2600 Philadelphia Pennsylvania 19133 United States;X-APPLE-RADIUS=500;X-TITLE=North 5th Street 2600:geo:-75.1407037,39.9906891
END:VEVENT
BEGIN:VEVENT
DTSTART;TZID=America/New_York:20250515T183000
DTEND;TZID=America/New_York:20250515T200000
DTSTAMP:20260425T090500
CREATED:20250430T145800Z
LAST-MODIFIED:20250430T145803Z
UID:10000229-1747333800-1747339200@tallerpr.org
SUMMARY:Artist Talk Shifting Realities: 12 Artists Finding Place in Uncertain Times​
DESCRIPTION:Thursday\, May 15\, 6:30pm\n\n\n\nTaller Puertorriqueño | 2600 N. 5th St\, Philadelphia\, PA 19133\n\n\n\n\n\n\nLearn More About the Show \n\n\n\n\nFREE EVENT | RSVP BELOW\n\n\n\n\n\n\n\n\n\nFull Name *Email Address *How many people are attending with you?Just me1 more person2 more people3 or more peopleRegister\n\n\n\n\n\nShifting Realities showcases a group of diverse artists whose practices confront our current landscape of political polarization and widespread doubt. Through their work\, these artists navigate paths toward stability and solace for themselves and their communities amid profound societal transformation. \n\n\n\nThis artist conversation is part of the exhibition whose theme asks a fundamental question: What constitutes our shared reality in an era when historical narratives face revision\, factual foundations erode\, and individual identities risk being silenced? \n\n\n\nJoin us at 6:30pm at Taller for a discussion with artists Hagudeza Rullán-Fantauzz\, Liliana Pérez\, and Miguel Antonio Horn about their work and the work in the show. The curator\, Rafael Damast\, will moderate the talk. \n\n\n\nAbout the Artists\n\n\n\nHagudeza Rullán-Fantauzzi\n\n\n\nHagudeza Rullán-Fantauzzi is a Philadelphia-based interdisciplinary artist and storyteller. She uses her journey as an Afro-Boricua Trans woman to create work that opens dialogues around often unspoken experiences—originally from Ponce\, Puerto Rico\, Hagudeza’s early years in low-resourced communities ignited a drive to create despite limited access to artistic outlets. Over time\, they honed their voice through movement and visual expression as artists and filmmakers\, crafting original works embodying resilience and transformation. Her projects continue to evolve\, blending forms and pushing boundaries\, driven by a commitment to spark connection and foster more profound understanding. \n\n\n\nLiliana Pérez\n\n\n\nBorn in Havana\, Cuba\, Liliana Pérez’s artistic journey began at the tender age of six when she made a drawing from the balcony of her family’s second-floor apartment in Central Havana. She sketched a car and proudly shared it with her father and uncle. Her uncle taught her how to draw a car\, emphasizing geometric shapes and simplified forms. However\, his approach didn’t resonate with her vision. Determined to stay true to her perspective\, she returned to the balcony\, vowing to create the most sincere and intentional drawing she could muster. This formative experience profoundly shaped her artistic choices throughout her life. \n\n\n\nMiguel Antonio Horn\n\n\n\nMiguel Antonio Horn is a sculptor from Philadelphia with Colombian and Venezuelan roots. He creates large-format sculptures using digital and analog processes in various media. His artworks have been exhibited at the Museo de Arte Contemporaneo de Tamaulipas\, Brownsville Museum of Fine Art\, Philadelphia Museum of Art\, University of the Arts\, Pennsylvania Academy of the Fine Arts\, and as part of the Vancouver Biennale. He has several permanent public installations in the Philadelphia region\, Canada\, and Mexico.
URL:https://tallerpr.org/events/artisttalkshiftingrealities3/
LOCATION:Taller Puertorriqueño\, North 5th Street 2600\, Philadelphia\, Pennsylvania\, 19133\, United States
CATEGORIES:Exhibitions Program
ATTACH;FMTTYPE=image/jpeg:https://tallerpr.org/wp-content/uploads/2025/04/ArtistTalk_WebBanner_01-3-scaled.jpeg
GEO:39.9906891;-75.1407037
X-APPLE-STRUCTURED-LOCATION;VALUE=URI;X-ADDRESS=Taller Puertorriqueño North 5th Street 2600 Philadelphia Pennsylvania 19133 United States;X-APPLE-RADIUS=500;X-TITLE=North 5th Street 2600:geo:-75.1407037,39.9906891
END:VEVENT
BEGIN:VEVENT
DTSTART;TZID=America/New_York:20250517T113000
DTEND;TZID=America/New_York:20250517T133000
DTSTAMP:20260425T090500
CREATED:20250404T183816Z
LAST-MODIFIED:20250404T183923Z
UID:10000221-1747481400-1747488600@tallerpr.org
SUMMARY:Bilingual Storytime: La Chiva in partnership with Acción Colombia and LABF
DESCRIPTION:Saturday\, May 17 at 11:30am\n\n\n\nTaller Puertorriqueño | 2600 N. 5th St\, Philadelphia\, PA 19133\n\n\n\n\n\n\nRSVP for Event\n\n\n\n\nFREE PUBLIC EVENT \n\n\n\n\n\n\n\n\n\nJoin us on Saturday\, May 17\, at 11:30am to read I Am La Chiva! in English and Spanish. We will have craft activities and Colombian coffee and pastries.
URL:https://tallerpr.org/events/lachiva/
LOCATION:Taller Puertorriqueño\, North 5th Street 2600\, Philadelphia\, Pennsylvania\, 19133\, United States
CATEGORIES:Julia de Burgos Bookstore,Meet the Author
ATTACH;FMTTYPE=image/jpeg:https://tallerpr.org/wp-content/uploads/2025/04/LaChiva_EmailWeb.jpg
GEO:39.9906891;-75.1407037
X-APPLE-STRUCTURED-LOCATION;VALUE=URI;X-ADDRESS=Taller Puertorriqueño North 5th Street 2600 Philadelphia Pennsylvania 19133 United States;X-APPLE-RADIUS=500;X-TITLE=North 5th Street 2600:geo:-75.1407037,39.9906891
END:VEVENT
BEGIN:VEVENT
DTSTART;TZID=America/New_York:20250517T160000
DTEND;TZID=America/New_York:20250517T180000
DTSTAMP:20260425T090500
CREATED:20250430T153819Z
LAST-MODIFIED:20250430T153822Z
UID:10000230-1747497600-1747504800@tallerpr.org
SUMMARY:Bodies & Territories: Ecofeminist Legacy – Film Screening and Conversation
DESCRIPTION:Saturday\, May 17 at 4pm\n\n\n\nat Taller Puertorriqueño | 2600 N. 5th St\, Philadelphia\, PA 19133\n\n\n\n\n\n\nRSVP for Event\n\n\n\n\nFREE PUBLIC EVENT \n\n\n\n\n\n\n\n\n\nA Film Screening and Conversation with Raquel Cecilia Mendieta\, Silvana Cardell\, and Mey-Yen Moriuchi at Taller Puertorriqueño\n\n\n\nBodies & Territories: Ecofeminist Legacy brings together choreographer Silvana Cardell\, filmmaker Raquel Cecilia Mendieta\, and art historian Mey-Yen Moriuchi for a screening and conversation that reflects on and reimagines ecofeminist artistic practice. Silvana Cardell’s new production TERRA: Bodies & Territories will premier in June on the forested land of the Schuylkill Center for Environmental Education in northwest Philadelphia. Cardell’s production aligns the bodies of her dance ensemble with the land\, merging human movement with nature to reveal our inextricable livelihood and empowerment. \n\n\n\nIn this program leading up to the June performances\, Cardell’s work will be discussed in conversation with the groundbreaking work of the artist Ana Mendieta (1948-1985)\, whose performative artistic practice embedded her own body into the land. Filmmaker Raquel Cecilia Mendieta introduces Ana Mendieta’s work through two short films\, Ana Mendieta\, Nature Inside (8:23 min) and Whispering Cave (27 min) for this exclusive screening. Bringing Cardell’s new production and Mendieta’s work together\, art historian Mey-Yen Moriuchi will moderate a conversation on the legacy of ecofeminist artistic practice and its relevance today. \n\n\n\nAbout the Presenters:\n\n\n\nSilvana Cardell\, a dancer\, choreographer\, and educator\, has been awarded a 2022 Guggenheim Fellowship in Choreography. With roots in Argentina and the US\, she has directed dance companies and developed programs in both countries. Cardell’s performances blend dance\, theater\, and visual arts\, and draw inspiration from her personal experiences and cultural background. Her work often addresses social issues and challenges dominant cultural narratives. \n\n\n\nCardell’s performances have been showcased domestically and internationally since the late-90s. Her projects have received significant funding from prominent organizations\, including the National Endowment for the Arts\, Pew Center for the Arts & Heritage\, and the New England Foundation for the Arts\, The National Endowment for the Arts\, and Mid Atlantic Foundation of the Arts. She is also committed to advancing dance in her communities\, having founded several organizations\, including EDA Escuela de Danza del Abasto\, a three-year professional dance training program sponsored by Secretaria de Cultura de la Nacion in Argentina\, and Sala Ana Itelman\, a performance space sponsored by the Instituto Nacional del Teatro in Buenos Aires and Cardell Dance Studio in Philadelphia. \n\n\n\nIn Philadelphia\, Cardell has collaborated extensively with Manfred Fishbeck at Group Motion Dance Company\, Myra Bazell and Madison Mario at Scrap Performance\, Merian Soto\, theater director Blanka Zizka and created Cardell Dance Theater and Cardell Dance Studio. \n\n\n\nFrom 2009 to 2022\, she served as the Director and Chair of the Department of Dance at Georgian Court University. \n\n\n\nRaquel Cecilia is an independent filmmaker and writer best known for her recent films on her aunt\, artist Ana Mendieta. Her films have screened at film festivals\, art museums and galleries world-wide. Raquel is also the Administrator of the Estate of Ana Mendieta Collection and has published numerous essays about Ana Mendieta in art catalogues\, most notably the essay on her experience overseeing the digital restoration of Mendieta’s moving image works on film and video in the catalogue Ana Mendieta: Covered in Time & History. She is currently working on a feature length documentary about the life and art of Ana Mendieta and was recently awarded a large grant from a philanthropic organization to help complete the film. \n\n\n\nMey-Yen Moriuchi is the co-editor of Art and Activism in the Twenty-First Century (Routledge\, 2022) which examines the role and breadth of contemporary activist art. Dr. Moriuchi’s book\, Mexican Costumbrismo: Race\, Society\, and Identity in Nineteenth-Century Art\, was published by Penn State University Press in 2018\, and received honorable mention by the Eleanor Tufts Award committee. Dr. Moriuchi received her B.A. in History of Art and International Relations from the University of Pennsylvania\, and her M.A. and Ph.D. in History of Art from Bryn Mawr College. Dr. Moriuchi teaches a variety of topics\, including Latin American art\, art and history of Mexico\, women and art\, public art\, and contemporary art and activism. \n\n\n\nMajor support for TERRA has been provided by The Pew Center for Arts & Heritage\, with additional support from Georgian Court University\, and the 2025 Creative Sector Flex Fund\, a program by the Greater Philadelphia Cultural Alliance and the Pennsylvania Council on the Arts.
URL:https://tallerpr.org/events/bodiesterritories/
LOCATION:Taller Puertorriqueño\, North 5th Street 2600\, Philadelphia\, Pennsylvania\, 19133\, United States
CATEGORIES:Exhibitions Program
ATTACH;FMTTYPE=image/jpeg:https://tallerpr.org/wp-content/uploads/2025/04/1-5-scaled.jpeg
GEO:39.9906891;-75.1407037
X-APPLE-STRUCTURED-LOCATION;VALUE=URI;X-ADDRESS=Taller Puertorriqueño North 5th Street 2600 Philadelphia Pennsylvania 19133 United States;X-APPLE-RADIUS=500;X-TITLE=North 5th Street 2600:geo:-75.1407037,39.9906891
END:VEVENT
BEGIN:VEVENT
DTSTART;TZID=America/New_York:20250522T160000
DTEND;TZID=America/New_York:20250522T180000
DTSTAMP:20260425T090500
CREATED:20250429T182833Z
LAST-MODIFIED:20250429T185242Z
UID:10000227-1747929600-1747936800@tallerpr.org
SUMMARY:Embroidering Legacy: A Community Workshop with Richie Lopez
DESCRIPTION:Thursday\, May 22 from 4pm -6pm\n\n\n\nTaller Puertorriqueño | 2600 N. 5th St\, Philadelphia\, PA 19133\n\n\n\n\n\n\nRSVP BELOW\n\n\n\n\nFREE | All materials provided | Space limited to 20 participants per session | Participants must be 14 and up \n\n\n\n\n\n\n\n\n\nCome learn some embroidery stitches! RSVP BELOW\n\n\n\nJoin artist Richie Wilde Lopez for two free community embroidery workshops at Taller Puertorriqueño. This hands-on session invites participants to contribute directly to a collaborative art installation centered on the theme of legacy—what we carry\, what we leave behind\, and what we hope to be remembered for. \n\n\n\nDuring the workshop\, participants will learn a few basic embroidery stitches and use them to stitch a single word onto cloth—something that represents their personal interpretation of legacy. These embroidered words will be collected at the end of the session and included in a larger textile installation currently in progress. \n\n\n\nThis is a space for thoughtful making\, quiet reflection\, and connection through craft. All experience levels are welcome. \n\n\n\nAll materials will be provided. Please note that participants will not keep their finished pieces\, as they will become part of the final artwork. \n\n\n\nParticipation is limited to 20 people per session. Pre-registration is encouraged. Participants must be 14 and up. \n\n\n\n			\n									This workshop has reached its maximum capacity and is currently closed for registration. We appreciate your interest.
URL:https://tallerpr.org/events/embroideryworkshop1/
LOCATION:Taller Puertorriqueño\, North 5th Street 2600\, Philadelphia\, Pennsylvania\, 19133\, United States
CATEGORIES:Workshop
ATTACH;FMTTYPE=image/jpeg:https://tallerpr.org/wp-content/uploads/2025/04/1-4-scaled.jpeg
GEO:39.9906891;-75.1407037
X-APPLE-STRUCTURED-LOCATION;VALUE=URI;X-ADDRESS=Taller Puertorriqueño North 5th Street 2600 Philadelphia Pennsylvania 19133 United States;X-APPLE-RADIUS=500;X-TITLE=North 5th Street 2600:geo:-75.1407037,39.9906891
END:VEVENT
BEGIN:VEVENT
DTSTART;TZID=America/New_York:20250530T200000
DTEND;TZID=America/New_York:20250530T233000
DTSTAMP:20260425T090500
CREATED:20250411T202207Z
LAST-MODIFIED:20250415T155208Z
UID:10000222-1748635200-1748647800@tallerpr.org
SUMMARY:BoriCorridor Tour 2025 presents Los Rivera Destino
DESCRIPTION:Friday\, May 30 at 8:00pm\n\n\n\nTaller Puertorriqueño | 2600 N. 5th St\, Philadelphia\, PA 19133\n\n\n\n\n\n\nBUY TICKETS\n\n\n\n\n$30 TICKETS | PUBLIC EVENT \n\n\n\n\n\n\n\n\n\nBoriCorridor Tour 2025 presents Los Rivera Destino\n\n\n\nBohemia\, satire\, and plenty of wit: that’s how you can describe the unique musical style of Los Rivera Destino\, whose recognition has skyrocketed in recent years. Carlos\, Antonio\, and Fernando manage to combine humor and mischief in their lyrics with rhythms like bolero and rock to offer the public a creative\, dynamic\, and extraordinarily fun show. \n\n\n\nEvent only for adults (18+) \n\n\n\nFriday\, May 30th\, 2025 at 8pm\n\n\n\nPrice: $30\n\n\n\nInfo: 787-200-7110 or info@boritix.com
URL:https://tallerpr.org/events/losriveradestino/
LOCATION:Taller Puertorriqueño\, North 5th Street 2600\, Philadelphia\, Pennsylvania\, 19133\, United States
CATEGORIES:Collaboration,Featured
ATTACH;FMTTYPE=image/jpeg:https://tallerpr.org/wp-content/uploads/2025/04/PHI_LOS-RIVERA-DESTINO_BCTOUR_1080X1080-copy-2.jpg
GEO:39.9906891;-75.1407037
X-APPLE-STRUCTURED-LOCATION;VALUE=URI;X-ADDRESS=Taller Puertorriqueño North 5th Street 2600 Philadelphia Pennsylvania 19133 United States;X-APPLE-RADIUS=500;X-TITLE=North 5th Street 2600:geo:-75.1407037,39.9906891
END:VEVENT
END:VCALENDAR