BEGIN:VCALENDAR
VERSION:2.0
PRODID:-//Taller Puertorriqueño - ECPv6.15.17.1//NONSGML v1.0//EN
CALSCALE:GREGORIAN
METHOD:PUBLISH
X-WR-CALNAME:Taller Puertorriqueño
X-ORIGINAL-URL:https://tallerpr.org
X-WR-CALDESC:Events for Taller Puertorriqueño
REFRESH-INTERVAL;VALUE=DURATION:PT1H
X-Robots-Tag:noindex
X-PUBLISHED-TTL:PT1H
BEGIN:VTIMEZONE
TZID:America/New_York
BEGIN:DAYLIGHT
TZOFFSETFROM:-0500
TZOFFSETTO:-0400
TZNAME:EDT
DTSTART:20230312T070000
END:DAYLIGHT
BEGIN:STANDARD
TZOFFSETFROM:-0400
TZOFFSETTO:-0500
TZNAME:EST
DTSTART:20231105T060000
END:STANDARD
BEGIN:DAYLIGHT
TZOFFSETFROM:-0500
TZOFFSETTO:-0400
TZNAME:EDT
DTSTART:20240310T070000
END:DAYLIGHT
BEGIN:STANDARD
TZOFFSETFROM:-0400
TZOFFSETTO:-0500
TZNAME:EST
DTSTART:20241103T060000
END:STANDARD
BEGIN:DAYLIGHT
TZOFFSETFROM:-0500
TZOFFSETTO:-0400
TZNAME:EDT
DTSTART:20250309T070000
END:DAYLIGHT
BEGIN:STANDARD
TZOFFSETFROM:-0400
TZOFFSETTO:-0500
TZNAME:EST
DTSTART:20251102T060000
END:STANDARD
END:VTIMEZONE
BEGIN:VEVENT
DTSTART;TZID=America/New_York:20240518T130000
DTEND;TZID=America/New_York:20240518T143000
DTSTAMP:20260423T000717
CREATED:20240514T182137Z
LAST-MODIFIED:20240514T182312Z
UID:10000177-1716037200-1716042600@tallerpr.org
SUMMARY:Artist Talk with Betsy Z. Casañas
DESCRIPTION:Join us for an engaging conversation with Betsy Z. Casañas as we discuss her new paintings in her show\, Call and Response. In contemporary art’s vibrant and ever-evolving world\, few artists capture the essence of storytelling through the visual medium as compellingly as Betsy Z. Casañas. Known for her intricate Mural designs and profound narratives\, Casañas’ work has captivated audiences and sparked global conversations. This event is free and open to the entire family\, let us know you’re coming by registering below. \n\n\n\nBetsy Z Casañas (b. 1974 in Philadelphia\, PA)\, based in Philadelphia and Puerto Rico\, is a Visual and Public Artist\, an educator\, a community activist\, and an organizer. She is the director of A Seed on Diamond Gallery (closed in 2020) and founder of Semilla Arts LLC\, a grassroots organization that uses art for social change. Casañas has 29 years of experience in the arts and has created over 70 murals worldwide. In 2018\, Casañas was featured in the Robb Report as one of the “5 Women Changing the Face of Street Art Around the Globe”. Her work is known for its use of pattern and color and the dignity and humanity of her depictions of people in marginalized communities.  \n\n\n\nCreating safe spaces has been a vital part of her work. As a Latina artist working in communities of color worldwide\, she understands the importance of the people living in these communities seeing themselves reflected in the artwork and the leadership of their places. She believes that artists must reflect on the times they are living in and highlight the people’s stories to change the narrative that has been created for us. By normalizing and humanizing our collective stories\, we create more tolerant communities. \n\n\n\nFull Name *Email Address *How many people are attending with you?Just me1 more person2 more people3 or more peopleRegister
URL:https://tallerpr.org/events/betsytalk/
LOCATION:Taller PuertorriqueÃ±o\, 2600 N 5th\, Philadelphia\, PA\, 19133\, United States
CATEGORIES:Exhibitions Program
ATTACH;FMTTYPE=image/jpeg:https://tallerpr.org/wp-content/uploads/2024/05/ArtistTalk_Betsy_SD_WebNewsletter.jpg
GEO:39.990701;-75.14091
X-APPLE-STRUCTURED-LOCATION;VALUE=URI;X-ADDRESS=Taller PuertorriqueÃ±o 2600 N 5th Philadelphia PA 19133 United States;X-APPLE-RADIUS=500;X-TITLE=2600 N 5th:geo:-75.14091,39.990701
END:VEVENT
END:VCALENDAR